BEGIN:VCALENDAR
VERSION:2.0
PRODID:-//hacksw/handcal//NONSGML v1.0//EN
BEGIN:VEVENT
SUMMARY:Competition nationale LR Vulaines sur seine
UID:cce219ec-00c3-4331-b26c-e343071f02cf
DTSTART:20260411T220000Z
DTEND:20260412T220000Z
LOCATION:Localisation   
CATEGORIES:Sportif
STATUS:
DESCRIPTION:<p>Competition Laser Run (LR) a Vulaines sur seine,
 organise par le club Laser Run Pays de Fontainebleau Pentathlon
 Moderne.</p>
 
 <p> </p>
 
 <p>Programme prevu : <a
 href="https://ffpentathlon.fr/competitions/laser-run-89/"
 target="_blank" rel="noreferrer
 noopener">https://ffpentathlon.fr/competitions/laser-run-89/</a></p>
 
 <p> </p>
 
 <p> </p>
 
 <p><strong>Rappel
 : <u><a
 href="https://rs-pentathlon.sportsregions.fr/actualites-du-club/calendrier-20252026-des-dates-de-participation-aux-competitions-pour-lrrp-1210813"
 target="_blank" rel="noreferrer noopener"><span
 style="color:#009900;">calendrier des competitions LRRP
 2025/202</span></a><span
 style="color:#009900;">6</span></u></strong></p>
 
 <p> </p>
 
 <p> </p>
 
 <p> </p>
 
 <p>Suivez
 nous sur notre page Facebook : <a
 href="https://www.facebook.com/laserrunrambouilletpentathlon/"
 target="_blank" rel="noreferrer
 noopener">https://www.facebook.com/laserrunrambouilletpentathlon/</a>.</p>
 
 <p>et
 sur notre page Instagram : <a
 href="https://www.instagram.com/laser_run_rambouillet_penta/"
 target="_blank" rel="noreferrer
 noopener">https://www.instagram.com/laser_run_rambouillet_penta/</a>.</p>
 
 <p> </p>
URL;VALUE=URI:https://rs-pentathlon.sportsregions.fr/evenements/2026/04/12/competition-nationale-lr-vulaines-sur-seine-2440477
END:VEVENT
END:VCALENDAR
